BEGIN:VCALENDAR
VERSION:2.0
PRODID:-//eventon.com NONSGML v1.0//EN
BEGIN:VEVENT
UID:69e5da8b11d88
DTSTAMP:20260420T084931
DTSTART:20210716T170000Z
DTEND:20210616T190000Z
LOCATION:Semana Negra de Xixón 2021 Puerto Deportivo
SUMMARY:Mesa redonda con Yolanda Diaz\,  Enric Juliana y Esteban Hernández
DESCRIPTION: El próximo 16 de Julio vuelven los tradicionales debates sobre la actualidad política que la Sociedad Cultural Gijonesa viene organizado durante los últimos años en el marco de la Semana Negra. En esta ocasión contaremos con tres invitados de auténtico lujo\,  Yolanda Diaz Vicepresidenta Segunda del gobierno y ministra de[..]
END:VEVENT
END:VCALENDAR