BEGIN:VCALENDAR
VERSION:2.0
PRODID:-//eventon.com NONSGML v1.0//EN
BEGIN:VEVENT
UID:69e725686138a
DTSTAMP:20260421T082112
DTSTART:20230922T180000Z
DTEND:20230922T200000Z
LOCATION:CMI d&#039;El Llano Calle Río de Oro\,  37
SUMMARY:El porvenir (L’avenir)\,  de Mia Hansen-Love\,  2016
DESCRIPTION: Dirección: Mia Hansen-Love. Intérpretes: Isabelle Huppert\,  Edith Scob\,  Roman Kolinka. Duración: 97 min. Nacionalidad: Francia. SINOPSIS Nathalie es una profesora de filosofía que da clases en un instituto de París. Su trabajo le entusiasma y reparte su tiempo entre sus alumnos y su familia\,  con sus hijos ya mayores y[..]
END:VEVENT
END:VCALENDAR