BEGIN:VCALENDAR
VERSION:2.0
PRODID:-//eventon.com NONSGML v1.0//EN
BEGIN:VEVENT
UID:69e75135a859d
DTSTAMP:20260421T112805
DTSTART:20240801T182000Z
DTEND:20240801T202000Z
LOCATION:Festival Arcu Atlánticu Jardines del a Reina
SUMMARY:MESA REDONDA:  "EL FUTURO DEL PROYECTO DE LA AUTOPISTA DEL MAR"
DESCRIPTION: FESTIVAL ARCU ATLÁNTICU. Jueves 1 de Agosto 19:00 horas. Carpa Jardines de la Reina. MESA REDONDA: "EL FUTURO DEL PROYECTO DE LA AUTOPISTA DEL MAR" El proyecto de la Autopista del Mar\,  es un proyecto estratégico no sólo para nuestra ciudad sino para el conjunto de Asturias. Un proyecto que[..]
END:VEVENT
END:VCALENDAR