BEGIN:VCALENDAR
VERSION:2.0
PRODID:-//eventon.com NONSGML v1.0//EN
BEGIN:VEVENT
UID:69e738d6e261e
DTSTAMP:20260421T094406
DTSTART:20260301T202700Z
DTEND:20260301T202700Z
LOCATION:CMI d&#039;El Llano Calle Río de Oro\,  37
SUMMARY:La vilda alegre (The Merry Widow)\,  d'Ernst Lubitsch\,  1934
DESCRIPTION: Dirección: Ernst Lubitsch Intérpretes: Maurice Chevalier\,  Jeanette McDonald\,  Henry Armetta Duración: 99 min. Nacionalidá: EE.UU. SINOPSIS Sonia ye una vilba\,  inmensamente rica\,  de Marshovia\,  pequenu país centro européu del que controla la metá de la riqueza. El país depende de qu'ella gaste'l so dineru nél\,  asina que\,  cuando se tresllada[..]
END:VEVENT
END:VCALENDAR